Workbook
Name ActualNumberOfPayments: IFERROR(IF(LoanIsGood,IF(PaymentsPerYear=1,1,MATCH(0.01,End_Bal,-1)+1)),"")
Name ColumnTitle1: #REF!
Name End_Bal: #REF!
Name ExtraPayments: #REF!
Name InterestRate: #REF!
Name LastCol: MATCH(REPT("z",255),#REF!)
Name LastRow: MATCH(9.99E+307,#REF!)
Name LenderName: #REF!
Name Loan_Start: '[1]Loan Calculator'!$E$7
Name LoanAmount: #REF!
Name LoanIsGood: (#REF!*#REF!*#REF!*#REF!)>0
Name LoanPeriod: #REF!
Name LoanStartDate: #REF!
Name PaymentsPerYear: #REF!
Name PrintArea_SET: OFFSET(#REF!,,,LastRow,LastCol)
Name RowTitleRegion1..E9: #REF!
Name RowTitleRegion2..I7: #REF!
Name RowTitleRegion3..E9: #REF!
Name RowTitleRegion4..H9: #REF!
Name ScheduledNumberOfPayments: #REF!
Name ScheduledPayment: #REF!
Name TotalEarlyPayments: SUM(#REF!)
Name TotalInterest: SUM(#REF!)

Sheet Instructions
B17: Welcome to the Business Finance Depot Loan Request Template!
B18: We hope the model provided will serve you well in the process of beginning your new venture!
B20: How to use the Business Finance Depot Client workbook:
B21: This workbook contains the following four worksheets that can be individually viewed by clicking on the worksheet tab on the bottom of this page.
B23: 1) Instructions Worksheet -> Provides overall information on how to use the Business Finance Depot Client workbook
B24: 2) Assumptions & Monthly Breakdown -> This is where you will enter specific information about your venture to populate the entire worksheet.
B25: >>>> This worksheet also includes a three year detailed financial view broken out by month for you to visualize the impact of your assumptions.
B26: 3) Loan Summary | Use of Funds -> This will be automatically generated and provide an overall Loan Summary.
B27: 4) Three-Year Detailed Projections -> This will be automatically generated and provide a three year financial projection of your venture.
B29: Where to Start:
B30: Fill out the requested information in Column C (shaded in orange) of the "Assumptions & Monthly Breakdown" tab.
B31: Upon completion of the requested information, review three year financial projections along with the other worksheets to review financial projections.
... B53: I certify that I have read and understand the above instructions and disclaimer:
B55: =C48 -> 0 | D55: =TODAY() -> 46291
B56: Name | D56: Date
B58: Questions, please contact:
B59: Business Finance Depot
B60: Paul Bosley
B61: W: Businessfinancedepot.com
B62: E: Paul@BusinessFinanceDepot.com
B63: P: 800-788-3884
B65: Copyright © 2021 Health Club Experts.com, LLC d/b/a Business Finance Depot

Sheet Assumptions & Monthly Breakdown
F1: Assumptions | Projected Profit/Loss - Year 1 | V1: Assumptions | Projected Profit/Loss - Year 2 | AL1: Assumptions | Projected Profit/Loss - Year 3
F2: =Instructions!C46 -> 0 | V2: =F2 -> 0 | AL2: =V2 -> 0
F3: =Instructions!C47 -> 0 | V3: =F3 -> 0 | AL3: =V3 -> 0
F4: =Instructions!C48 -> 0 | V4: =F4 -> 0 | AL4: =V4 -> 0
B8: Instructions: Enter/Update data in Column C shaded in orange:
F9: YEAR 1 PROJECTION | V9: YEAR 2 PROJECTION | AL9: YEAR 3 PROJECTION
B10: Assumptions / Revenue | D10: Notes:
B11: Tents/Yurts/Teepees/Wagons (Glamping) | C11: 1 | F11: MONTH | G11: 1 | H11: 2 | I11: 3 | J11: 4 | K11: 5 | L11: 6 | M11: 7 | N11: 8 | O11: 9 | P11: 10 | Q11: 11 | R11: 12 | S11: Total | T11: % | V11: MONTH | W11: 13 | X11: 14 | Y11: 15 | Z11: 16 | AA11: 17 | AB11: 18 | AC11: 19 | AD11: 20 | AE11: 21 | AF11: 22 | AG11: 23 | AH11: 24 | AI11: Total | AJ11: % | AL11: MONTH | AM11: 25 | AN11: 26 | AO11: 27 | AP11: 28 | AQ11: 29 | AR11: 30 | AS11: 31 | AT11: 32 | AU11: 33 | AV11: 34 | AW11: 35 | AX11: 36 | AY11: Total | AZ11: %
B12: Sales - Tents/Yurts/Teepees/Wagons | C12: 10 | D12: Including sales tax | F12: Sales: | V12: Sales: | AL12: Sales:
B13: Sales - Rental (golf carts, etc.) | C13: 1 | F13: Occupancy Rate /Month | G13: =G70 -> 0.01 | H13: =$G71 -> 0.01 | I13: =G72 -> 0.01 | J13: =G73 -> 0.01 | K13: =G74 -> 0.01 | L13: =G75 -> 0.01 | M13: =G76 -> 0.01 | N13: =G77 -> 0.01 | O13: =G78 -> 0.01 | P13: =G79 -> 0.01 | Q13: =G80 -> 0.01 | R13: =G81 -> 0.01 | V13: Occupancy Rate /Month | W13: =H70 -> 0.02 | X13: =H71 -> 0.02 | Y13: =H72 -> 0.02 | Z13: =H73 -> 0.02 | AA13: =H74 -> 0.02 | AB13: =H75 -> 0.02 | AC13: =H76 -> 0.02 | AD13: =H77 -> 0.02 | AE13: =H78 -> 0.02 | AF13: =H79 -> 0.02 | AG13: =H80 -> 0.02 | AH13: =H81 -> 0.02 | AL13: Occupancy Rate /Month | AM13: =I70 -> 0.03 | AN13: =I71 -> 0.03 | AO13: =I72 -> 0.03 | AP13: =I73 -> 0.03 | AQ13: =I74 -> 0.03 | AR13: =I75 -> 0.03 | AS13: =I76 -> 0.03 | AT13: =I77 -> 0.03 | AU13: =I78 -> 0.03 | AV13: =I79 -> 0.03 | AW13: =I80 -> 0.03 | AX13: =I81 -> 0.03
B14: Sales - Rental (% of occupants) | C14: 0.01 | F14: Customers/Month | G14: =(($C$17*365)/12)*G13 -> 0.30416667 | H14: =(($C$17*365)/12)*H13 -> 0.30416667 | I14: =(($C$17*365)/12)*I13 -> 0.30416667 | J14: =(($C$17*365)/12)*J13 -> 0.30416667 | K14: =(($C$17*365)/12)*K13 -> 0.30416667 | L14: =(($C$17*365)/12)*L13 -> 0.30416667 | M14: =(($C$17*365)/12)*M13 -> 0.30416667 | N14: =(($C$17*365)/12)*N13 -> 0.30416667 | ... R14: =(($C$17*365)/12)*R13 -> 0.30416667 | S14: =SUM(G14:R14) -> 3.65 | V14: Customers/Month | W14: =(($C$17*365)/12)*W13 -> 0.60833333 | X14: =(($C$17*365)/12)*X13 -> 0.60833333 | Y14: =(($C$17*365)/12)*Y13 -> 0.60833333 | Z14: =(($C$17*365)/12)*Z13 -> 0.60833333 | AA14: =(($C$17*365)/12)*AA13 -> 0.60833333 | AB14: =(($C$17*365)/12)*AB13 -> 0.60833333 | AC14: =(($C$17*365)/12)*AC13 -> 0.60833333 | AD14: =(($C$17*365)/12)*AD13 -> 0.60833333 | ... AH14: =(($C$17*365)/12)*AH13 -> 0.60833333 | AI14: =SUM(W14:AH14) -> 7.3 | AL14: Customers/Month | AM14: =(($C$17*365)/12)*AM13 -> 0.9125 | AN14: =(($C$17*365)/12)*AN13 -> 0.9125 | AO14: =(($C$17*365)/12)*AO13 -> 0.9125 | AP14: =(($C$17*365)/12)*AP13 -> 0.9125 | AQ14: =(($C$17*365)/12)*AQ13 -> 0.9125 | AR14: =(($C$17*365)/12)*AR13 -> 0.9125 | AS14: =(($C$17*365)/12)*AS13 -> 0.9125 | AT14: =(($C$17*365)/12)*AT13 -> 0.9125 | ... AX14: =(($C$17*365)/12)*AX13 -> 0.9125 | AY14: =SUM(AM14:AX14) -> 10.95
B15: Sales - Store Sales/Food Service/Retail | C15: 1 | F15: Tents/Yurts/Teepees/Wagons (Glamping) | G15: =(($C$12*$C$11)*30)*G13 -> 3 | H15: =(($C$12*$C$11)*30)*H13 -> 3 | I15: =(($C$12*$C$11)*30)*I13 -> 3 | J15: =(($C$12*$C$11)*30)*J13 -> 3 | K15: =(($C$12*$C$11)*30)*K13 -> 3 | L15: =(($C$12*$C$11)*30)*L13 -> 3 | M15: =(($C$12*$C$11)*30)*M13 -> 3 | N15: =(($C$12*$C$11)*30)*N13 -> 3 | ... R15: =(($C$12*$C$11)*30)*R13 -> 3 | S15: =SUM(G15:R15) -> 36 | V15: Tents/Yurts/Teepees/Wagons (Glamping) | W15: =((($C$12*$C$11)*30)*W13)*$C$21 -> 6.6 | X15: =((($C$12*$C$11)*30)*X13)*$C$21 -> 6.6 | Y15: =((($C$12*$C$11)*30)*Y13)*$C$21 -> 6.6 | Z15: =((($C$12*$C$11)*30)*Z13)*$C$21 -> 6.6 | AA15: =((($C$12*$C$11)*30)*AA13)*$C$21 -> 6.6 | AB15: =((($C$12*$C$11)*30)*AB13)*$C$21 -> 6.6 | AC15: =((($C$12*$C$11)*30)*AC13)*$C$21 -> 6.6 | AD15: =((($C$12*$C$11)*30)*AD13)*$C$21 -> 6.6 | ... AH15: =((($C$12*$C$11)*30)*AH13)*$C$21 -> 6.6 | AI15: =SUM(W15:AH15) -> 79.2 | AL15: Tents/Yurts/Teepees/Wagons (Glamping) | AM15: =((($C$12*$C$11)*30)*AM13)*$C$21*$C$22 -> 10.395 | AN15: =((($C$12*$C$11)*30)*AN13)*$C$21*$C$22 -> 10.395 | AO15: =((($C$12*$C$11)*30)*AO13)*$C$21*$C$22 -> 10.395 | AP15: =((($C$12*$C$11)*30)*AP13)*$C$21*$C$22 -> 10.395 | AQ15: =((($C$12*$C$11)*30)*AQ13)*$C$21*$C$22 -> 10.395 | AR15: =((($C$12*$C$11)*30)*AR13)*$C$21*$C$22 -> 10.395 | AS15: =((($C$12*$C$11)*30)*AS13)*$C$21*$C$22 -> 10.395 | AT15: =((($C$12*$C$11)*30)*AT13)*$C$21*$C$22 -> 10.395 | ... AX15: =((($C$12*$C$11)*30)*AX13)*$C$21*$C$22 -> 10.395 | AY15: =SUM(AM15:AX15) -> 124.74
B16: Sales - Store (% of occupants) | C16: 0.01 | F16: Rentals | G16: =(($C$13*G14)*$C$14)*G13 -> 3.0416667e-05 | H16: =(($C$13*H14)*$C$14)*H13 -> 3.0416667e-05 | I16: =(($C$13*I14)*$C$14)*I13 -> 3.0416667e-05 | J16: =(($C$13*J14)*$C$14)*J13 -> 3.0416667e-05 | K16: =(($C$13*K14)*$C$14)*K13 -> 3.0416667e-05 | L16: =(($C$13*L14)*$C$14)*L13 -> 3.0416667e-05 | M16: =(($C$13*M14)*$C$14)*M13 -> 3.0416667e-05 | N16: =(($C$13*N14)*$C$14)*N13 -> 3.0416667e-05 | ... R16: =(($C$13*R14)*$C$14)*R13 -> 3.0416667e-05 | S16: =SUM(G16:R16) -> 0.000365 | V16: Rentals | W16: =((($C$13*W14)*$C$14)*W13)*$C$21 -> 0.00013383333 | X16: =((($C$13*X14)*$C$14)*X13)*$C$21 -> 0.00013383333 | Y16: =((($C$13*Y14)*$C$14)*Y13)*$C$21 -> 0.00013383333 | Z16: =((($C$13*Z14)*$C$14)*Z13)*$C$21 -> 0.00013383333 | AA16: =((($C$13*AA14)*$C$14)*AA13)*$C$21 -> 0.00013383333 | AB16: =((($C$13*AB14)*$C$14)*AB13)*$C$21 -> 0.00013383333 | AC16: =((($C$13*AC14)*$C$14)*AC13)*$C$21 -> 0.00013383333 | AD16: =((($C$13*AD14)*$C$14)*AD13)*$C$21 -> 0.00013383333 | ... AH16: =((($C$13*AH14)*$C$14)*AH13)*$C$21 -> 0.00013383333 | AI16: =SUM(W16:AH16) -> 0.001606 | AL16: Rentals | AM16: =((($C$13*AM14)*$C$14)*AM13)*$C$21*$C$22 -> 0.00031618125 | AN16: =((($C$13*AN14)*$C$14)*AN13)*$C$21*$C$22 -> 0.00031618125 | AO16: =((($C$13*AO14)*$C$14)*AO13)*$C$21*$C$22 -> 0.00031618125 | AP16: =((($C$13*AP14)*$C$14)*AP13)*$C$21*$C$22 -> 0.00031618125 | AQ16: =((($C$13*AQ14)*$C$14)*AQ13)*$C$21*$C$22 -> 0.00031618125 | AR16: =((($C$13*AR14)*$C$14)*AR13)*$C$21*$C$22 -> 0.00031618125 | AS16: =((($C$13*AS14)*$C$14)*AS13)*$C$21*$C$22 -> 0.00031618125 | AT16: =((($C$13*AT14)*$C$14)*AT13)*$C$21*$C$22 -> 0.00031618125 | ... AX16: =((($C$13*AX14)*$C$14)*AX13)*$C$21*$C$22 -> 0.00031618125 | AY16: =SUM(AM16:AX16) -> 0.003794175
B17: Average Customers | C17: 1 | F17: Store Sales/Food Service/Retail | G17: =(($C$15*G14)*$C$16)*G13 -> 3.0416667e-05 | H17: =(($C$15*H14)*$C$16)*H13 -> 3.0416667e-05 | I17: =(($C$15*I14)*$C$16)*I13 -> 3.0416667e-05 | J17: =(($C$15*J14)*$C$16)*J13 -> 3.0416667e-05 | K17: =(($C$15*K14)*$C$16)*K13 -> 3.0416667e-05 | L17: =(($C$15*L14)*$C$16)*L13 -> 3.0416667e-05 | M17: =(($C$15*M14)*$C$16)*M13 -> 3.0416667e-05 | N17: =(($C$15*N14)*$C$16)*N13 -> 3.0416667e-05 | ... R17: =(($C$15*R14)*$C$16)*R13 -> 3.0416667e-05 | S17: =SUM(G17:R17) -> 0.000365 | V17: Store Sales/Food Service/Retail | W17: =((($C$15*W14)*$C$16)*W13)*$C$21 -> 0.00013383333 | X17: =((($C$15*X14)*$C$16)*X13)*$C$21 -> 0.00013383333 | Y17: =((($C$15*Y14)*$C$16)*Y13)*$C$21 -> 0.00013383333 | Z17: =((($C$15*Z14)*$C$16)*Z13)*$C$21 -> 0.00013383333 | AA17: =((($C$15*AA14)*$C$16)*AA13)*$C$21 -> 0.00013383333 | AB17: =((($C$15*AB14)*$C$16)*AB13)*$C$21 -> 0.00013383333 | AC17: =((($C$15*AC14)*$C$16)*AC13)*$C$21 -> 0.00013383333 | AD17: =((($C$15*AD14)*$C$16)*AD13)*$C$21 -> 0.00013383333 | ... AH17: =((($C$15*AH14)*$C$16)*AH13)*$C$21 -> 0.00013383333 | AI17: =SUM(W17:AH17) -> 0.001606 | AL17: Store Sales/Food Service/Retail | AM17: =((($C$15*AM14)*$C$16)*AM13)*$C$21*$C$22 -> 0.00031618125 | AN17: =((($C$15*AN14)*$C$16)*AN13)*$C$21*$C$22 -> 0.00031618125 | AO17: =((($C$15*AO14)*$C$16)*AO13)*$C$21*$C$22 -> 0.00031618125 | AP17: =((($C$15*AP14)*$C$16)*AP13)*$C$21*$C$22 -> 0.00031618125 | AQ17: =((($C$15*AQ14)*$C$16)*AQ13)*$C$21*$C$22 -> 0.00031618125 | AR17: =((($C$15*AR14)*$C$16)*AR13)*$C$21*$C$22 -> 0.00031618125 | AS17: =((($C$15*AS14)*$C$16)*AS13)*$C$21*$C$22 -> 0.00031618125 | AT17: =((($C$15*AT14)*$C$16)*AT13)*$C$21*$C$22 -> 0.00031618125 | ... AX17: =((($C$15*AX14)*$C$16)*AX13)*$C$21*$C$22 -> 0.00031618125 | AY17: =SUM(AM17:AX17) -> 0.003794175
B18: % of Cancellation | C18: 0.01 | F18: Cancellation Fees | G18: =G14*$C$18*$C$19 -> 0.0030416667 | H18: =H14*$C$18*$C$19 -> 0.0030416667 | I18: =I14*$C$18*$C$19 -> 0.0030416667 | J18: =J14*$C$18*$C$19 -> 0.0030416667 | K18: =K14*$C$18*$C$19 -> 0.0030416667 | L18: =L14*$C$18*$C$19 -> 0.0030416667 | M18: =M14*$C$18*$C$19 -> 0.0030416667 | N18: =N14*$C$18*$C$19 -> 0.0030416667 | ... R18: =R14*$C$18*$C$19 -> 0.0030416667 | S18: =SUM(G18:R18) -> 0.0365 | V18: Cancellation Fees | W18: =W14*$C$18*$C$19 -> 0.0060833333 | X18: =X14*$C$18*$C$19 -> 0.0060833333 | Y18: =Y14*$C$18*$C$19 -> 0.0060833333 | Z18: =Z14*$C$18*$C$19 -> 0.0060833333 | AA18: =AA14*$C$18*$C$19 -> 0.0060833333 | AB18: =AB14*$C$18*$C$19 -> 0.0060833333 | AC18: =AC14*$C$18*$C$19 -> 0.0060833333 | AD18: =AD14*$C$18*$C$19 -> 0.0060833333 | ... AH18: =AH14*$C$18*$C$19 -> 0.0060833333 | AI18: =SUM(W18:AH18) -> 0.073 | AL18: Cancellation Fees | AM18: =AM14*$C$18*$C$19 -> 0.009125 | AN18: =AN14*$C$18*$C$19 -> 0.009125 | AO18: =AO14*$C$18*$C$19 -> 0.009125 | AP18: =AP14*$C$18*$C$19 -> 0.009125 | AQ18: =AQ14*$C$18*$C$19 -> 0.009125 | AR18: =AR14*$C$18*$C$19 -> 0.009125 | AS18: =AS14*$C$18*$C$19 -> 0.009125 | AT18: =AT14*$C$18*$C$19 -> 0.009125 | ... AX18: =AX14*$C$18*$C$19 -> 0.009125 | AY18: =SUM(AM18:AX18) -> 0.1095
B19: Cancellation Fee | C19: 1 | F19: Cost of Good Sold | G19: =G17*$C$20 -> 4.5625e-07 | H19: =H17*$C$20 -> 4.5625e-07 | I19: =I17*$C$20 -> 4.5625e-07 | J19: =J17*$C$20 -> 4.5625e-07 | K19: =K17*$C$20 -> 4.5625e-07 | L19: =L17*$C$20 -> 4.5625e-07 | M19: =M17*$C$20 -> 4.5625e-07 | N19: =N17*$C$20 -> 4.5625e-07 | ... R19: =R17*$C$20 -> 4.5625e-07 | S19: =SUM(G19:R19) -> 5.475e-06 | V19: Cost of Good Sold | W19: =W17*$C$20 -> 2.0075e-06 | X19: =X17*$C$20 -> 2.0075e-06 | Y19: =Y17*$C$20 -> 2.0075e-06 | Z19: =Z17*$C$20 -> 2.0075e-06 | AA19: =AA17*$C$20 -> 2.0075e-06 | AB19: =AB17*$C$20 -> 2.0075e-06 | AC19: =AC17*$C$20 -> 2.0075e-06 | AD19: =AD17*$C$20 -> 2.0075e-06 | ... AH19: =AH17*$C$20 -> 2.0075e-06 | AI19: =SUM(W19:AH19) -> 2.409e-05 | AL19: Cost of Good Sold | AM19: =AM17*$C$20 -> 4.7427187e-06 | AN19: =AN17*$C$20 -> 4.7427187e-06 | AO19: =AO17*$C$20 -> 4.7427187e-06 | AP19: =AP17*$C$20 -> 4.7427187e-06 | AQ19: =AQ17*$C$20 -> 4.7427187e-06 | AR19: =AR17*$C$20 -> 4.7427187e-06 | AS19: =AS17*$C$20 -> 4.7427187e-06 | AT19: =AT17*$C$20 -> 4.7427187e-06 | ... AX19: =AX17*$C$20 -> 4.7427187e-06 | AY19: =SUM(AM19:AX19) -> 5.6912625e-05
B20: COGS (Cost of Goods Sold) | C20: 0.015 | D20: % of All Sales | F20: Gross Sales / Revenue | G20: =SUM(G15:G18) -> 3.0031025 | H20: =SUM(H15:H18) -> 3.0031025 | I20: =SUM(I15:I18) -> 3.0031025 | J20: =SUM(J15:J18) -> 3.0031025 | K20: =SUM(K15:K18) -> 3.0031025 | L20: =SUM(L15:L18) -> 3.0031025 | M20: =SUM(M15:M18) -> 3.0031025 | N20: =SUM(N15:N18) -> 3.0031025 | ... R20: =SUM(R15:R18) -> 3.0031025 | S20: =SUM(G20:R20) -> 36.03723 | V20: Gross Sales / Revenue | W20: =SUM(W15:W18) -> 6.606351 | X20: =SUM(X15:X18) -> 6.606351 | Y20: =SUM(Y15:Y18) -> 6.606351 | Z20: =SUM(Z15:Z18) -> 6.606351 | AA20: =SUM(AA15:AA18) -> 6.606351 | AB20: =SUM(AB15:AB18) -> 6.606351 | AC20: =SUM(AC15:AC18) -> 6.606351 | AD20: =SUM(AD15:AD18) -> 6.606351 | ... AH20: =SUM(AH15:AH18) -> 6.606351 | AI20: =SUM(W20:AH20) -> 79.276212 | AL20: Gross Sales / Revenue | AM20: =SUM(AM15:AM18) -> 10.404757 | AN20: =SUM(AN15:AN18) -> 10.404757 | AO20: =SUM(AO15:AO18) -> 10.404757 | AP20: =SUM(AP15:AP18) -> 10.404757 | AQ20: =SUM(AQ15:AQ18) -> 10.404757 | AR20: =SUM(AR15:AR18) -> 10.404757 | AS20: =SUM(AS15:AS18) -> 10.404757 | AT20: =SUM(AT15:AT18) -> 10.404757 | ... AX20: =SUM(AX15:AX18) -> 10.404757 | AY20: =SUM(AM20:AX20) -> 124.85709
B21: Year 2 Price Increase | C21: 1.1 | F21: Gross Profit | G21: =(G20-G19) -> 3.003102 | H21: =(H20-H19) -> 3.003102 | I21: =(I20-I19) -> 3.003102 | J21: =(J20-J19) -> 3.003102 | K21: =(K20-K19) -> 3.003102 | L21: =(L20-L19) -> 3.003102 | M21: =(M20-M19) -> 3.003102 | N21: =(N20-N19) -> 3.003102 | ... R21: =(R20-R19) -> 3.003102 | S21: =SUM(G21:R21) -> 36.037225 | V21: Gross Profit | W21: =(W20-W19) -> 6.606349 | X21: =(X20-X19) -> 6.606349 | Y21: =(Y20-Y19) -> 6.606349 | Z21: =(Z20-Z19) -> 6.606349 | AA21: =(AA20-AA19) -> 6.606349 | AB21: =(AB20-AB19) -> 6.606349 | AC21: =(AC20-AC19) -> 6.606349 | AD21: =(AD20-AD19) -> 6.606349 | ... AH21: =(AH20-AH19) -> 6.606349 | AI21: =SUM(W21:AH21) -> 79.276188 | AL21: Gross Profit | AM21: =(AM20-AM19) -> 10.404753 | AN21: =(AN20-AN19) -> 10.404753 | AO21: =(AO20-AO19) -> 10.404753 | AP21: =(AP20-AP19) -> 10.404753 | AQ21: =(AQ20-AQ19) -> 10.404753 | AR21: =(AR20-AR19) -> 10.404753 | AS21: =(AS20-AS19) -> 10.404753 | AT21: =(AT20-AT19) -> 10.404753 | ... AX21: =(AX20-AX19) -> 10.404753 | AY21: =SUM(AM21:AX21) -> 124.85703
B22: Year 3 Price Increase | C22: 1.05 | F22: Controllable Expenses: | V22: Controllable Expenses: | AL22: Controllable Expenses:
F23: Officer Salary | G23: =$C$40 -> 100 | H23: =$C$40 -> 100 | I23: =$C$40 -> 100 | J23: =$C$40 -> 100 | K23: =$C$40 -> 100 | L23: =$C$40 -> 100 | M23: =$C$40 -> 100 | N23: =$C$40 -> 100 | ... R23: =$C$40 -> 100 | S23: =SUM(G23:R23) -> 1200 | T23: =S23/$S$35 -> 0.10827684 | V23: Officer Salary | W23: =$AI$23/12 -> 103 | X23: =$AI$23/12 -> 103 | Y23: =$AI$23/12 -> 103 | Z23: =$AI$23/12 -> 103 | AA23: =$AI$23/12 -> 103 | AB23: =$AI$23/12 -> 103 | AC23: =$AI$23/12 -> 103 | AD23: =$AI$23/12 -> 103 | ... AH23: =$AI$23/12 -> 103 | AI23: =S23*$C$54 -> 1236 | AJ23: =AI23/$AI$35 -> 0.10824685 | AL23: Officer Salary | AM23: =$AY$23/12 -> 106.09 | AN23: =$AY$23/12 -> 106.09 | AO23: =$AY$23/12 -> 106.09 | AP23: =$AY$23/12 -> 106.09 | AQ23: =$AY$23/12 -> 106.09 | AR23: =$AY$23/12 -> 106.09 | AS23: =$AY$23/12 -> 106.09 | AT23: =$AY$23/12 -> 106.09 | ... AX23: =$AY$23/12 -> 106.09 | AY23: =AI23*$C$55 -> 1273.08 | AZ23: =AY23/$AY$35 -> 0.10821704
B24: Initial Investment | F24: Salaries and Wages | G24: =$C$41 -> 100 | H24: =$C$41 -> 100 | I24: =$C$41 -> 100 | J24: =$C$42 -> 100 | K24: =$C$42 -> 100 | L24: =$C$42 -> 100 | M24: =$C$42 -> 100 | N24: =$C$42 -> 100 | O24: =$C$42 -> 100 | P24: =$C$42 -> 100 | Q24: =$C$42 -> 100 | R24: =$C$42 -> 100 | S24: =SUM(G24:R24) -> 1200 | T24: =S24/$S$35 -> 0.10827684 | V24: Salaries and Wages | W24: =$AI$24/12 -> 103 | X24: =$AI$24/12 -> 103 | Y24: =$AI$24/12 -> 103 | Z24: =$AI$24/12 -> 103 | AA24: =$AI$24/12 -> 103 | AB24: =$AI$24/12 -> 103 | AC24: =$AI$24/12 -> 103 | AD24: =$AI$24/12 -> 103 | ... AH24: =$AI$24/12 -> 103 | AI24: =S24*$C$54 -> 1236 | AJ24: =AI24/$AI$35 -> 0.10824685 | AL24: Salaries and Wages | AM24: =$AY$24/12 -> 106.09 | AN24: =$AY$24/12 -> 106.09 | AO24: =$AY$24/12 -> 106.09 | AP24: =$AY$24/12 -> 106.09 | AQ24: =$AY$24/12 -> 106.09 | AR24: =$AY$24/12 -> 106.09 | AS24: =$AY$24/12 -> 106.09 | AT24: =$AY$24/12 -> 106.09 | ... AX24: =$AY$24/12 -> 106.09 | AY24: =AI24*$C$55 -> 1273.08 | AZ24: =AY24/$AY$35 -> 0.10821704
B25: Equity Injection Percentage | C25: 0.2 | D25: Minimum 10% required | F25: Payroll Taxes | G25: =$C$43*(G23+G24) -> 40 | H25: =$C$43*(H23+H24) -> 40 | I25: =$C$43*(I23+I24) -> 40 | J25: =$C$43*(J23+J24) -> 40 | K25: =$C$43*(K23+K24) -> 40 | L25: =$C$43*(L23+L24) -> 40 | M25: =$C$43*(M23+M24) -> 40 | N25: =$C$43*(N23+N24) -> 40 | ... R25: =$C$43*(R23+R24) -> 40 | S25: =SUM(G25:R25) -> 480 | T25: =S25/$S$35 -> 0.043310735 | V25: Payroll Taxes | W25: =$AI$25/12 -> 41.2 | X25: =$AI$25/12 -> 41.2 | Y25: =$AI$25/12 -> 41.2 | Z25: =$AI$25/12 -> 41.2 | AA25: =$AI$25/12 -> 41.2 | AB25: =$AI$25/12 -> 41.2 | AC25: =$AI$25/12 -> 41.2 | AD25: =$AI$25/12 -> 41.2 | ... AH25: =$AI$25/12 -> 41.2 | AI25: =S25*$C$54 -> 494.4 | AJ25: =AI25/$AI$35 -> 0.043298742 | AL25: Payroll Taxes | AM25: =$AY$25/12 -> 42.436 | AN25: =$AY$25/12 -> 42.436 | AO25: =$AY$25/12 -> 42.436 | AP25: =$AY$25/12 -> 42.436 | AQ25: =$AY$25/12 -> 42.436 | AR25: =$AY$25/12 -> 42.436 | AS25: =$AY$25/12 -> 42.436 | AT25: =$AY$25/12 -> 42.436 | ... AX25: =$AY$25/12 -> 42.436 | AY25: =AI25*$C$55 -> 509.232 | AZ25: =AY25/$AY$35 -> 0.043286816
B26: Real Estate Purchase & Construction | C26: 1000 | D26: Color coding matches | F26: Advertising | G26: =$C$44*G20 -> 0.1201241 | H26: =$C$44*H20 -> 0.1201241 | I26: =$C$44*I20 -> 0.1201241 | J26: =$C$44*J20 -> 0.1201241 | K26: =$C$44*K20 -> 0.1201241 | L26: =$C$44*L20 -> 0.1201241 | M26: =$C$44*M20 -> 0.1201241 | N26: =$C$44*N20 -> 0.1201241 | ... R26: =$C$44*R20 -> 0.1201241 | S26: =SUM(G26:R26) -> 1.4414892 | T26: =S26/$S$35 -> 0.00013006658 | V26: Advertising | W26: =$C$44*W20 -> 0.26425404 | X26: =$C$44*X20 -> 0.26425404 | Y26: =$C$44*Y20 -> 0.26425404 | Z26: =$C$44*Z20 -> 0.26425404 | AA26: =$C$44*AA20 -> 0.26425404 | AB26: =$C$44*AB20 -> 0.26425404 | AC26: =$C$44*AC20 -> 0.26425404 | AD26: =$C$44*AD20 -> 0.26425404 | ... AH26: =$C$44*AH20 -> 0.26425404 | AI26: =SUM(W26:AH26) -> 3.1710485 | AJ26: =AI26/$AI$35 -> 0.00027771523 | AL26: Advertising | AM26: =$C$44*AM20 -> 0.41619029 | AN26: =$C$44*AN20 -> 0.41619029 | AO26: =$C$44*AO20 -> 0.41619029 | AP26: =$C$44*AP20 -> 0.41619029 | AQ26: =$C$44*AQ20 -> 0.41619029 | AR26: =$C$44*AR20 -> 0.41619029 | AS26: =$C$44*AS20 -> 0.41619029 | AT26: =$C$44*AT20 -> 0.41619029 | ... AX26: =$C$44*AX20 -> 0.41619029 | AY26: =SUM(AM26:AX26) -> 4.9942835 | AZ26: =AY26/$AY$35 -> 0.00042453465
B27: Franchise Fee | C27: 0 | D27: with Loan Summary | F27: Credit Card Fees | G27: =G20*$C$45 -> 0.10510859 | H27: =H20*$C$45 -> 0.10510859 | I27: =I20*$C$45 -> 0.10510859 | J27: =J20*$C$45 -> 0.10510859 | K27: =K20*$C$45 -> 0.10510859 | L27: =L20*$C$45 -> 0.10510859 | M27: =M20*$C$45 -> 0.10510859 | N27: =N20*$C$45 -> 0.10510859 | ... R27: =R20*$C$45 -> 0.10510859 | S27: =SUM(G27:R27) -> 1.261303 | T27: =S27/$S$35 -> 0.00011380825 | V27: Credit Card Fees | W27: =W20*$C$45 -> 0.23122229 | X27: =X20*$C$45 -> 0.23122229 | Y27: =Y20*$C$45 -> 0.23122229 | Z27: =Z20*$C$45 -> 0.23122229 | AA27: =AA20*$C$45 -> 0.23122229 | AB27: =AB20*$C$45 -> 0.23122229 | AC27: =AC20*$C$45 -> 0.23122229 | AD27: =AD20*$C$45 -> 0.23122229 | ... AH27: =AH20*$C$45 -> 0.23122229 | AI27: =SUM(W27:AH27) -> 2.7746674 | AJ27: =AI27/$AI$35 -> 0.00024300082 | AL27: Credit Card Fees | AM27: =AM20*$C$45 -> 0.36416651 | AN27: =AN20*$C$45 -> 0.36416651 | AO27: =AO20*$C$45 -> 0.36416651 | AP27: =AP20*$C$45 -> 0.36416651 | AQ27: =AQ20*$C$45 -> 0.36416651 | AR27: =AR20*$C$45 -> 0.36416651 | AS27: =AS20*$C$45 -> 0.36416651 | AT27: =AT20*$C$45 -> 0.36416651 | ... AX27: =AX20*$C$45 -> 0.36416651 | AY27: =SUM(AM27:AX27) -> 4.3699981 | AZ27: =AY27/$AY$35 -> 0.00037146782
B28: Inventory | C28: 100 | D28: Worksheet. | F28: Legal / Accounting | G28: =$C$46 -> 100 | H28: =$C$46 -> 100 | I28: =$C$46 -> 100 | J28: =$C$46 -> 100 | K28: =$C$46 -> 100 | L28: =$C$46 -> 100 | M28: =$C$46 -> 100 | N28: =$C$46 -> 100 | ... R28: =$C$46 -> 100 | S28: =SUM(G28:R28) -> 1200 | T28: =S28/$S$35 -> 0.10827684 | V28: Legal / Accounting | W28: =$AI$28/12 -> 103 | X28: =$AI$28/12 -> 103 | Y28: =$AI$28/12 -> 103 | Z28: =$AI$28/12 -> 103 | AA28: =$AI$28/12 -> 103 | AB28: =$AI$28/12 -> 103 | AC28: =$AI$28/12 -> 103 | AD28: =$AI$28/12 -> 103 | ... AH28: =$AI$28/12 -> 103 | AI28: =S28*$C$54 -> 1236 | AJ28: =AI28/$AI$35 -> 0.10824685 | AL28: Legal / Accounting | AM28: =$AY$28/12 -> 106.09 | AN28: =$AY$28/12 -> 106.09 | AO28: =$AY$28/12 -> 106.09 | AP28: =$AY$28/12 -> 106.09 | AQ28: =$AY$28/12 -> 106.09 | AR28: =$AY$28/12 -> 106.09 | AS28: =$AY$28/12 -> 106.09 | AT28: =$AY$28/12 -> 106.09 | ... AX28: =$AY$28/12 -> 106.09 | AY28: =AI28*$C$55 -> 1273.08 | AZ28: =AY28/$AY$35 -> 0.10821704
B29: Equipment, Furniture & Fixtures | C29: 1000 | D29: Includes structures | F29: Office Supplies | G29: =$C$47 -> 100 | H29: =$C$47 -> 100 | I29: =$C$47 -> 100 | J29: =$C$47 -> 100 | K29: =$C$47 -> 100 | L29: =$C$47 -> 100 | M29: =$C$47 -> 100 | N29: =$C$47 -> 100 | ... R29: =$C$47 -> 100 | S29: =SUM(G29:R29) -> 1200 | T29: =S29/$S$35 -> 0.10827684 | V29: Office Supplies | W29: =$AI$29/12 -> 103 | X29: =$AI$29/12 -> 103 | Y29: =$AI$29/12 -> 103 | Z29: =$AI$29/12 -> 103 | AA29: =$AI$29/12 -> 103 | AB29: =$AI$29/12 -> 103 | AC29: =$AI$29/12 -> 103 | AD29: =$AI$29/12 -> 103 | ... AH29: =$AI$29/12 -> 103 | AI29: =S29*$C$54 -> 1236 | AJ29: =AI29/$AI$35 -> 0.10824685 | AL29: Office Supplies | AM29: =$AY$29/12 -> 106.09 | AN29: =$AY$29/12 -> 106.09 | AO29: =$AY$29/12 -> 106.09 | AP29: =$AY$29/12 -> 106.09 | AQ29: =$AY$29/12 -> 106.09 | AR29: =$AY$29/12 -> 106.09 | AS29: =$AY$29/12 -> 106.09 | AT29: =$AY$29/12 -> 106.09 | ... AX29: =$AY$29/12 -> 106.09 | AY29: =AI29*$C$55 -> 1273.08 | AZ29: =AY29/$AY$35 -> 0.10821704
B30: Incorporation Fee | C30: 200 | D30: Startup Working Capital | F30: Repairs / Maintenance | G30: 0 | H30: 0 | I30: =$C$48 -> 100 | J30: =$C$48 -> 100 | K30: =$C$48 -> 100 | L30: =$C$48 -> 100 | M30: =$C$48 -> 100 | N30: =$C$48 -> 100 | O30: =$C$48 -> 100 | P30: =$C$48 -> 100 | ... R30: =$C$48 -> 100 | S30: =SUM(G30:R30) -> 1000 | T30: =S30/$S$35 -> 0.090230697 | V30: Repairs / Maintenance | W30: =$AI$30/12 -> 85.833333 | X30: =$AI$30/12 -> 85.833333 | Y30: =$AI$30/12 -> 85.833333 | Z30: =$AI$30/12 -> 85.833333 | AA30: =$AI$30/12 -> 85.833333 | AB30: =$AI$30/12 -> 85.833333 | AC30: =$AI$30/12 -> 85.833333 | AD30: =$AI$30/12 -> 85.833333 | ... AH30: =$AI$30/12 -> 85.833333 | AI30: =S30*$C$54 -> 1030 | AJ30: =AI30/$AI$35 -> 0.090205712 | AL30: Repairs / Maintenance | AM30: =$AY$30/12 -> 88.408333 | AN30: =$AY$30/12 -> 88.408333 | AO30: =$AY$30/12 -> 88.408333 | AP30: =$AY$30/12 -> 88.408333 | AQ30: =$AY$30/12 -> 88.408333 | AR30: =$AY$30/12 -> 88.408333 | AS30: =$AY$30/12 -> 88.408333 | AT30: =$AY$30/12 -> 88.408333 | ... AX30: =$AY$30/12 -> 88.408333 | AY30: =AI30*$C$55 -> 1060.9 | AZ30: =AY30/$AY$35 -> 0.090180866
B31: Security Deposit (if any) | C31: 0 | D31: Startup Working Capital | F31: Telephone | G31: =$C$49 -> 100 | H31: =$C$49 -> 100 | I31: =$C$49 -> 100 | J31: =$C$49 -> 100 | K31: =$C$49 -> 100 | L31: =$C$49 -> 100 | M31: =$C$49 -> 100 | N31: =$C$49 -> 100 | ... R31: =$C$49 -> 100 | S31: =SUM(G31:R31) -> 1200 | T31: =S31/$S$35 -> 0.10827684 | V31: Telephone | W31: =$AI$31/12 -> 103 | X31: =$AI$31/12 -> 103 | Y31: =$AI$31/12 -> 103 | Z31: =$AI$31/12 -> 103 | AA31: =$AI$31/12 -> 103 | AB31: =$AI$31/12 -> 103 | AC31: =$AI$31/12 -> 103 | AD31: =$AI$31/12 -> 103 | ... AH31: =$AI$31/12 -> 103 | AI31: =S31*$C$54 -> 1236 | AJ31: =AI31/$AI$35 -> 0.10824685 | AL31: Telephone | AM31: =$AY$31/12 -> 106.09 | AN31: =$AY$31/12 -> 106.09 | AO31: =$AY$31/12 -> 106.09 | AP31: =$AY$31/12 -> 106.09 | AQ31: =$AY$31/12 -> 106.09 | AR31: =$AY$31/12 -> 106.09 | AS31: =$AY$31/12 -> 106.09 | AT31: =$AY$31/12 -> 106.09 | ... AX31: =$AY$31/12 -> 106.09 | AY31: =AI31*$C$55 -> 1273.08 | AZ31: =AY31/$AY$35 -> 0.10821704
B32: Preopening Advertising | C32: 1000 | D32: Startup Working Capital | F32: Travel | G32: =$C$50 -> 100 | H32: =$C$50 -> 100 | I32: =$C$50 -> 100 | J32: =$C$50 -> 100 | K32: =$C$50 -> 100 | L32: =$C$50 -> 100 | M32: =$C$50 -> 100 | N32: =$C$50 -> 100 | ... R32: =$C$50 -> 100 | S32: =SUM(G32:R32) -> 1200 | T32: =S32/$S$35 -> 0.10827684 | V32: Travel | W32: =$AI$32/12 -> 103 | X32: =$AI$32/12 -> 103 | Y32: =$AI$32/12 -> 103 | Z32: =$AI$32/12 -> 103 | AA32: =$AI$32/12 -> 103 | AB32: =$AI$32/12 -> 103 | AC32: =$AI$32/12 -> 103 | AD32: =$AI$32/12 -> 103 | ... AH32: =$AI$32/12 -> 103 | AI32: =S32*$C$54 -> 1236 | AJ32: =AI32/$AI$35 -> 0.10824685 | AL32: Travel | AM32: =$AY$32/12 -> 106.09 | AN32: =$AY$32/12 -> 106.09 | AO32: =$AY$32/12 -> 106.09 | AP32: =$AY$32/12 -> 106.09 | AQ32: =$AY$32/12 -> 106.09 | AR32: =$AY$32/12 -> 106.09 | AS32: =$AY$32/12 -> 106.09 | AT32: =$AY$32/12 -> 106.09 | ... AX32: =$AY$32/12 -> 106.09 | AY32: =AI32*$C$55 -> 1273.08 | AZ32: =AY32/$AY$35 -> 0.10821704
B33: Training Fee, Travel & Supplies | C33: 1000 | D33: Startup Working Capital | F33: Utilities | G33: =$C$51 -> 100 | H33: =$C$51 -> 100 | I33: =$C$51 -> 100 | J33: =$C$52 -> 100 | K33: =$C$52 -> 100 | L33: =$C$52 -> 100 | M33: =$C$52 -> 100 | N33: =$C$52 -> 100 | O33: =$C$52 -> 100 | P33: =$C$52 -> 100 | Q33: =$C$52 -> 100 | R33: =$C$52 -> 100 | S33: =SUM(G33:R33) -> 1200 | T33: =S33/$S$35 -> 0.10827684 | V33: Utilities | W33: =$AI$33/12 -> 103 | X33: =$AI$33/12 -> 103 | Y33: =$AI$33/12 -> 103 | Z33: =$AI$33/12 -> 103 | AA33: =$AI$33/12 -> 103 | AB33: =$AI$33/12 -> 103 | AC33: =$AI$33/12 -> 103 | AD33: =$AI$33/12 -> 103 | ... AH33: =$AI$33/12 -> 103 | AI33: =S33*$C$54 -> 1236 | AJ33: =AI33/$AI$35 -> 0.10824685 | AL33: Utilities | AM33: =$AY$33/12 -> 106.09 | AN33: =$AY$33/12 -> 106.09 | AO33: =$AY$33/12 -> 106.09 | AP33: =$AY$33/12 -> 106.09 | AQ33: =$AY$33/12 -> 106.09 | AR33: =$AY$33/12 -> 106.09 | AS33: =$AY$33/12 -> 106.09 | AT33: =$AY$33/12 -> 106.09 | ... AX33: =$AY$33/12 -> 106.09 | AY33: =AI33*$C$55 -> 1273.08 | AZ33: =AY33/$AY$35 -> 0.10821704
B34: Construction Contingency (10%) | C34: =10%*C26 -> 100 | D34: Startup Working Capital | F34: Software Fees | G34: =$C$53 -> 100 | H34: =$C$53 -> 100 | I34: =$C$53 -> 100 | J34: =$C$53 -> 100 | K34: =$C$53 -> 100 | L34: =$C$53 -> 100 | M34: =$C$53 -> 100 | N34: =$C$53 -> 100 | ... R34: =$C$53 -> 100 | S34: =SUM(G34:R34) -> 1200 | T34: =S34/$S$35 -> 0.10827684 | V34: Software Fees | W34: =$AI$34/12 -> 103 | X34: =$AI$34/12 -> 103 | Y34: =$AI$34/12 -> 103 | Z34: =$AI$34/12 -> 103 | AA34: =$AI$34/12 -> 103 | AB34: =$AI$34/12 -> 103 | AC34: =$AI$34/12 -> 103 | AD34: =$AI$34/12 -> 103 | ... AH34: =$AI$34/12 -> 103 | AI34: =S34*$C$54 -> 1236 | AJ34: =AI34/$AI$35 -> 0.10824685 | AL34: Software Fees | AM34: =$AY$34/12 -> 106.09 | AN34: =$AY$34/12 -> 106.09 | AO34: =$AY$34/12 -> 106.09 | AP34: =$AY$34/12 -> 106.09 | AQ34: =$AY$34/12 -> 106.09 | AR34: =$AY$34/12 -> 106.09 | AS34: =$AY$34/12 -> 106.09 | AT34: =$AY$34/12 -> 106.09 | ... AX34: =$AY$34/12 -> 106.09 | AY34: =AI34*$C$55 -> 1273.08 | AZ34: =AY34/$AY$35 -> 0.10821704
B35: Operating Working Capital | C35: Do not enter | D35: Determined by table | F35: Total Controllable Expenses | G35: =SUM(G23:G34) -> 840.22523 | H35: =SUM(H23:H34) -> 840.22523 | I35: =SUM(I23:I34) -> 940.22523 | J35: =SUM(J23:J34) -> 940.22523 | K35: =SUM(K23:K34) -> 940.22523 | L35: =SUM(L23:L34) -> 940.22523 | M35: =SUM(M23:M34) -> 940.22523 | N35: =SUM(N23:N34) -> 940.22523 | ... R35: =SUM(R23:R34) -> 940.22523 | S35: =SUM(G35:R35) -> 11082.703 | T35: =SUM(T23:T34) -> 1 | V35: Total Controllable Expenses | W35: =SUM(W23:W34) -> 951.52881 | X35: =SUM(X23:X34) -> 951.52881 | Y35: =SUM(Y23:Y34) -> 951.52881 | Z35: =SUM(Z23:Z34) -> 951.52881 | AA35: =SUM(AA23:AA34) -> 951.52881 | AB35: =SUM(AB23:AB34) -> 951.52881 | AC35: =SUM(AC23:AC34) -> 951.52881 | AD35: =SUM(AD23:AD34) -> 951.52881 | ... AI35: =SUM(AI23:AI34) -> 11418.346 | AJ35: 1 | AL35: Total Controllable Expenses | AM35: =$AY$35/12 -> 980.34469 | AN35: =$AY$35/12 -> 980.34469 | AO35: =$AY$35/12 -> 980.34469 | AP35: =$AY$35/12 -> 980.34469 | AQ35: =$AY$35/12 -> 980.34469 | AR35: =$AY$35/12 -> 980.34469 | AS35: =$AY$35/12 -> 980.34469 | AT35: =$AY$35/12 -> 980.34469 | ... AX35: =$AY$35/12 -> 980.34469 | AY35: =SUM(AY23:AY34) -> 11764.136 | AZ35: =SUM(AZ23:AZ34) -> 1
B36: Closing Costs (Estimated) - Percentage | C36: 0.05 | F36: Fixed Expenses: | V36: Fixed Expenses: | AL36: Fixed Expenses:
F37: Rent & CAM* | G37: =$C$58 -> 0 | H37: =$C$58 -> 0 | I37: =$C$58 -> 0 | J37: =$C$58 -> 0 | K37: =$C$58 -> 0 | L37: =$C$58 -> 0 | M37: =$C$58 -> 0 | N37: =$C$58 -> 0 | ... R37: =$C$58 -> 0 | S37: =SUM(G37:R37) -> 0 | V37: Rent & CAM | W37: =$C$59 -> 0 | X37: =$C$59 -> 0 | Y37: =$C$59 -> 0 | Z37: =$C$59 -> 0 | AA37: =$C$59 -> 0 | AB37: =$C$59 -> 0 | AC37: =$C$59 -> 0 | AD37: =$C$59 -> 0 | ... AH37: =$C$59 -> 0 | AI37: =SUM(W37:AH37) -> 0 | AL37: Rent & CAM | AM37: =$C$60 -> 0 | AN37: =$C$60 -> 0 | AO37: =$C$60 -> 0 | AP37: =$C$60 -> 0 | AQ37: =$C$60 -> 0 | AR37: =$C$60 -> 0 | AS37: =$C$60 -> 0 | AT37: =$C$60 -> 0 | ... AX37: =$C$60 -> 0 | AY37: =SUM(AM37:AX37) -> 0
F38: Insurance (All) | G38: =$C$61 -> 100 | H38: =$C$61 -> 100 | I38: =$C$61 -> 100 | J38: =$C$61 -> 100 | K38: =$C$61 -> 100 | L38: =$C$61 -> 100 | M38: =$C$61 -> 100 | N38: =$C$61 -> 100 | ... R38: =$C$61 -> 100 | S38: =SUM(G38:R38) -> 1200 | V38: Insurance (All) | W38: =$AI$38/12 -> 103 | X38: =$AI$38/12 -> 103 | Y38: =$AI$38/12 -> 103 | Z38: =$AI$38/12 -> 103 | AA38: =$AI$38/12 -> 103 | AB38: =$AI$38/12 -> 103 | AC38: =$AI$38/12 -> 103 | AD38: =$AI$38/12 -> 103 | ... AH38: =$AI$38/12 -> 103 | AI38: =S38*$C$54 -> 1236 | AL38: Insurance (All) | AM38: =$AY$38/12 -> 106.09 | AN38: =$AY$38/12 -> 106.09 | AO38: =$AY$38/12 -> 106.09 | AP38: =$AY$38/12 -> 106.09 | AQ38: =$AY$38/12 -> 106.09 | AR38: =$AY$38/12 -> 106.09 | AS38: =$AY$38/12 -> 106.09 | AT38: =$AY$38/12 -> 106.09 | ... AX38: =$AY$38/12 -> 106.09 | AY38: =AI38*$C$55 -> 1273.08
B39: Controllable Expenses: | C39: per month | F39: Licenses / Permits | G39: =$C$62 -> 100 | H39: =$C$62 -> 100 | I39: =$C$62 -> 100 | J39: =$C$62 -> 100 | K39: =$C$62 -> 100 | L39: =$C$62 -> 100 | M39: =$C$62 -> 100 | N39: =$C$62 -> 100 | ... R39: =$C$62 -> 100 | S39: =SUM(G39:R39) -> 1200 | V39: Licenses / Permits | W39: =$AI$39/12 -> 103 | X39: =$AI$39/12 -> 103 | Y39: =$AI$39/12 -> 103 | Z39: =$AI$39/12 -> 103 | AA39: =$AI$39/12 -> 103 | AB39: =$AI$39/12 -> 103 | AC39: =$AI$39/12 -> 103 | AD39: =$AI$39/12 -> 103 | ... AH39: =$AI$39/12 -> 103 | AI39: =S39*$C$54 -> 1236 | AL39: Licenses / Permits | AM39: =$AY$39/12 -> 106.09 | AN39: =$AY$39/12 -> 106.09 | AO39: =$AY$39/12 -> 106.09 | AP39: =$AY$39/12 -> 106.09 | AQ39: =$AY$39/12 -> 106.09 | AR39: =$AY$39/12 -> 106.09 | AS39: =$AY$39/12 -> 106.09 | AT39: =$AY$39/12 -> 106.09 | ... AX39: =$AY$39/12 -> 106.09 | AY39: =AI39*$C$55 -> 1273.08
B40: Officer Salary | C40: 100 | F40: Sales Tax | G40: =$C$63*G20 -> 0.030031025 | H40: =$C$63*H20 -> 0.030031025 | I40: =$C$63*I20 -> 0.030031025 | J40: =$C$63*J20 -> 0.030031025 | K40: =$C$63*K20 -> 0.030031025 | L40: =$C$63*L20 -> 0.030031025 | M40: =$C$63*M20 -> 0.030031025 | N40: =$C$63*N20 -> 0.030031025 | ... R40: =$C$63*R20 -> 0.030031025 | S40: =SUM(G40:R40) -> 0.3603723 | V40: Sales Tax | W40: =$C$63*W20 -> 0.06606351 | X40: =$C$63*X20 -> 0.06606351 | Y40: =$C$63*Y20 -> 0.06606351 | Z40: =$C$63*Z20 -> 0.06606351 | AA40: =$C$63*AA20 -> 0.06606351 | AB40: =$C$63*AB20 -> 0.06606351 | AC40: =$C$63*AC20 -> 0.06606351 | AD40: =$C$63*AD20 -> 0.06606351 | ... AH40: =$C$63*AH20 -> 0.06606351 | AI40: =S40*$C$54 -> 0.37118347 | AL40: Sales Tax | AM40: =$C$63*AM20 -> 0.10404757 | AN40: =$C$63*AN20 -> 0.10404757 | AO40: =$C$63*AO20 -> 0.10404757 | AP40: =$C$63*AP20 -> 0.10404757 | AQ40: =$C$63*AQ20 -> 0.10404757 | AR40: =$C$63*AR20 -> 0.10404757 | AS40: =$C$63*AS20 -> 0.10404757 | AT40: =$C$63*AT20 -> 0.10404757 | ... AX40: =$C$63*AX20 -> 0.10404757 | AY40: =SUM(AM40:AX40) -> 1.2485709
B41: Salaries & Wages Q1 | C41: 100 | D41: Q1 (Startup) | F41: Royalties | G41: =$C$64*G20 -> 0 | H41: =$C$64*H20 -> 0 | I41: =$C$64*I20 -> 0 | J41: =$C$64*J20 -> 0 | K41: =$C$64*K20 -> 0 | L41: =$C$64*L20 -> 0 | M41: =$C$64*M20 -> 0 | N41: =$C$64*N20 -> 0 | ... R41: =$C$64*R20 -> 0 | S41: =SUM(G41:R41) -> 0 | V41: Royalties | W41: =$C$64*W20 -> 0 | X41: =$C$64*X20 -> 0 | Y41: =$C$64*Y20 -> 0 | Z41: =$C$64*Z20 -> 0 | AA41: =$C$64*AA20 -> 0 | AB41: =$C$64*AB20 -> 0 | AC41: =$C$64*AC20 -> 0 | AD41: =$C$64*AD20 -> 0 | ... AH41: =$C$64*AH20 -> 0 | AI41: =S41*$C$54 -> 0 | AL41: Royalties | AM41: =$C$64*AM20 -> 0 | AN41: =$C$64*AN20 -> 0 | AO41: =$C$64*AO20 -> 0 | AP41: =$C$64*AP20 -> 0 | AQ41: =$C$64*AQ20 -> 0 | AR41: =$C$64*AR20 -> 0 | AS41: =$C$64*AS20 -> 0 | AT41: =$C$64*AT20 -> 0 | ... AX41: =$C$64*AX20 -> 0 | AY41: =SUM(AM41:AX41) -> 0
B42: Salaries & Wages | C42: 100 | F42: Operating Expenses | G42: =$C$96 -> 1400 | H42: =$C$96 -> 1400 | I42: =$C$96 -> 1400 | J42: =$C$96 -> 1400 | K42: =$C$96 -> 1400 | L42: =$C$96 -> 1400 | M42: =$C$96 -> 1400 | N42: =$C$96 -> 1400 | ... R42: =$C$96 -> 1400 | S42: =SUM(G42:R42) -> 16800 | V42: Operating Expenses | W42: =$AI$42/12 -> 1442 | X42: =$AI$42/12 -> 1442 | Y42: =$AI$42/12 -> 1442 | Z42: =$AI$42/12 -> 1442 | AA42: =$AI$42/12 -> 1442 | AB42: =$AI$42/12 -> 1442 | AC42: =$AI$42/12 -> 1442 | AD42: =$AI$42/12 -> 1442 | ... AH42: =$AI$42/12 -> 1442 | AI42: =S42*$C$54 -> 17304 | AL42: Operating Expenses | AM42: =$AY$42/12 -> 1485.26 | AN42: =$AY$42/12 -> 1485.26 | AO42: =$AY$42/12 -> 1485.26 | AP42: =$AY$42/12 -> 1485.26 | AQ42: =$AY$42/12 -> 1485.26 | AR42: =$AY$42/12 -> 1485.26 | AS42: =$AY$42/12 -> 1485.26 | AT42: =$AY$42/12 -> 1485.26 | ... AX42: =$AY$42/12 -> 1485.26 | AY42: =AI42*$C$55 -> 17823.12
B43: Payroll Taxes | C43: 0.2 | F43: Total Fixed Expenses | G43: =SUM(G37:G42) -> 1600.03 | H43: =SUM(H37:H42) -> 1600.03 | I43: =SUM(I37:I42) -> 1600.03 | J43: =SUM(J37:J42) -> 1600.03 | K43: =SUM(K37:K42) -> 1600.03 | L43: =SUM(L37:L42) -> 1600.03 | M43: =SUM(M37:M42) -> 1600.03 | N43: =SUM(N37:N42) -> 1600.03 | ... R43: =SUM(R37:R42) -> 1600.03 | S43: =SUM(G43:R43) -> 19200.36 | V43: Total Fixed Expenses | W43: =SUM(W37:W42) -> 1648.0661 | X43: =SUM(X37:X42) -> 1648.0661 | Y43: =SUM(Y37:Y42) -> 1648.0661 | Z43: =SUM(Z37:Z42) -> 1648.0661 | AA43: =SUM(AA37:AA42) -> 1648.0661 | AB43: =SUM(AB37:AB42) -> 1648.0661 | AC43: =SUM(AC37:AC42) -> 1648.0661 | AD43: =SUM(AD37:AD42) -> 1648.0661 | ... AI43: =SUM(AI37:AI42) -> 19776.371 | AL43: Total Fixed Expenses | AM43: =$AY$43/12 -> 1697.544 | AN43: =$AY$43/12 -> 1697.544 | AO43: =$AY$43/12 -> 1697.544 | AP43: =$AY$43/12 -> 1697.544 | AQ43: =$AY$43/12 -> 1697.544 | AR43: =$AY$43/12 -> 1697.544 | AS43: =$AY$43/12 -> 1697.544 | AT43: =$AY$43/12 -> 1697.544 | ... AX43: =$AY$43/12 -> 1697.544 | AY43: =SUM(AY37:AY42) -> 20370.529
...

Sheet Loan Summary | Use of Funds
B6: Loan Request Summary|Use of Funds
B8: =Instructions!C46 -> 0
B9: =Instructions!C47 -> 0
B10: =Instructions!C48 -> 0
B16: Loan Request Summary
B17: Construction/Real Estate Purchase | C17: ='Assumptions & Monthly Breakdown'!C26+'Assumptions & Monthly Breakdown'!C30 -> 1200 | G17: Interest Expense @ 9.25%
B18: Franchise Fee | C18: ='Assumptions & Monthly Breakdown'!C27 -> 0 | F18: Year # | G18: Year 1 | H18: Year 2 | I18: Year 3
B19: Inventory | C19: ='Assumptions & Monthly Breakdown'!C28 -> 100 | F19: Interest Expense Rate Factor | G19: 0.092 | H19: 0.09 | I19: 0.088
B20: Equipment, Furniture & Fixtures | C20: ='Assumptions & Monthly Breakdown'!C29 -> 1000 | F20: Interest Expense | G20: =$C$29*G19 -> 942.10238 | H20: =$C$29*H19 -> 921.62189 | I20: =$C$29*I19 -> 901.14141
B21: Startup Working Capital | C21: =SUM('Assumptions & Monthly Breakdown'!C30:C34) -> 2300 | F21: Loan Payment Rate Factor | G21: 0.103 | H21: 0.103 | I21: 0.103
B22: Operating Working Capital | C22: =C31 -> 7590.7658 | F22: Loan Payment | G22: =C29*G21 -> 1054.7451 | H22: =C29*H21 -> 1054.7451 | I22: =C29*I21 -> 1054.7451
B23: TOTAL PROJECT COSTS | C23: =SUM(C17:C22) -> 12190.766 | F23: Debt Coverage Ratio | G23: ='Assumptions & Monthly Breakdown'!S44/'Loan Summary | Use of Funds'!G22 -> -28.677097 | H23: ='Assumptions & Monthly Breakdown'!AI44/'Loan Summary | Use of Funds'!H22 -> -29.500438 | I23: ='Assumptions & Monthly Breakdown'!AY44/'Loan Summary | Use of Funds'!I22 -> -30.348384
B24: Closing Costs (Estimated) | C24: =(C23-C27)*'Assumptions & Monthly Breakdown'!C36 -> 487.63063
B25: TOTAL USE OF FUNDS (A) | C25: =C23+C24 -> 12678.396
B27: Equity Injection (B) | C27: =(C23-C28)*'Assumptions & Monthly Breakdown'!C25 -> 2438.1532
B29: AMOUNT OF LOAN REQUEST (A - B) | C29: =C25-C27-C28 -> 10240.243
B31: Operating Working Capital | C31: =('Assumptions & Monthly Breakdown'!S47/12)*C32 -> 7590.7658
B32: # of Months | C32: 3 | F32: Questions, please contact:
B33: Operating Expenses include Total Expenses * # of months above. | F33: =Instructions!B59 -> Business Finance Depot
F34: =Instructions!B60 -> Paul Bosley
B35: Debt Coverage Ratio | C35: =G23 -> -28.677097 | F35: =Instructions!B61 -> W: Businessfinancedepot.com
F36: =Instructions!B62 -> E: Paul@BusinessFinanceDepot.com
F37: =Instructions!B63 -> P: 800-788-3884
B39: I certify that the forgoing data fairly represents potential annual earnings to the best of my knowledge and have read the above disclaimer:
B41: =Instructions!C48 -> 0 | F41: =TODAY() -> 46291
B42: Name | F42: Date
B44: Copyright © 2021 Health Club Experts.com, LLC d/b/a Business Finance Depot

Sheet Three-Year Detailed Projections
B7: Estimated Three-Year Projections
B8: =Instructions!C46 -> 0
B9: =Instructions!C47 -> 0
B10: =Instructions!C48 -> 0
B15: Estimated Three-Year Projections
C16: Year 1 | D16: % | E16: Year 2 | F16: % | G16: Year 3 | H16: %
B17: ='Assumptions & Monthly Breakdown'!F12 -> Sales:
B18: Customers | C18: ='Assumptions & Monthly Breakdown'!S14 -> 3.65 | E18: ='Assumptions & Monthly Breakdown'!AI14 -> 7.3 | G18: ='Assumptions & Monthly Breakdown'!AY14 -> 10.95
B19: ='Assumptions & Monthly Breakdown'!F15 -> Tents/Yurts/Teepees/Wagons (Glamping) | C19: ='Assumptions & Monthly Breakdown'!S15 -> 36 | D19: =C19/C$24 -> 0.99997972 | E19: ='Assumptions & Monthly Breakdown'!AI15 -> 79.2 | F19: =E19/E$24 -> 0.99995945 | G19: ='Assumptions & Monthly Breakdown'!AY15 -> 124.74 | H19: =G19/G$24 -> 0.99993917
B20: ='Assumptions & Monthly Breakdown'!F16 -> Rentals | C20: ='Assumptions & Monthly Breakdown'!S16 -> 0.000365 | D20: =C20/C$24 -> 1.0138683e-05 | E20: ='Assumptions & Monthly Breakdown'!AI16 -> 0.001606 | F20: =E20/E$24 -> 2.0276955e-05 | G20: ='Assumptions & Monthly Breakdown'!AY16 -> 0.003794175 | H20: =G20/G$24 -> 3.0414816e-05
B21: ='Assumptions & Monthly Breakdown'!F17 -> Store Sales/Food Service/Retail | C21: ='Assumptions & Monthly Breakdown'!S17 -> 0.000365 | D21: =C21/C$24 -> 1.0138683e-05 | E21: ='Assumptions & Monthly Breakdown'!AI17 -> 0.001606 | F21: =E21/E$24 -> 2.0276955e-05 | G21: ='Assumptions & Monthly Breakdown'!AY17 -> 0.003794175 | H21: =G21/G$24 -> 3.0414816e-05
B22: Cancellation Fees | C22: ='Assumptions & Monthly Breakdown'!S18 -> 0.0365 | D22: =C22/C$24 -> 0.0010138683 | E22: ='Assumptions & Monthly Breakdown'!AI18 -> 0.073 | F22: =E22/E$24 -> 0.00092167979 | G22: ='Assumptions & Monthly Breakdown'!AY18 -> 0.1095 | H22: =G22/G$24 -> 0.00087777248
B23: ='Assumptions & Monthly Breakdown'!F19 -> Cost of Good Sold | C23: ='Assumptions & Monthly Breakdown'!S19 -> 5.475e-06 | D23: =C23/C$24 -> 1.5208025e-07 | E23: ='Assumptions & Monthly Breakdown'!AI19 -> 2.409e-05 | F23: =E23/E$24 -> 3.0415433e-07 | G23: ='Assumptions & Monthly Breakdown'!AY19 -> 5.6912625e-05 | H23: =G23/G$24 -> 4.5622225e-07
B24: Gross Sales / Revenue | C24: =SUM(C19:C21) -> 36.00073 | D24: =C24/C$24 -> 1 | E24: =SUM(E19:E21) -> 79.203212 | F24: =E24/E$24 -> 1 | G24: =SUM(G19:G21) -> 124.74759 | H24: =G24/G$24 -> 1
B25: Gross Profit | C25: ='Assumptions & Monthly Breakdown'!S21 -> 36.037225 | D25: =C25/C$24 -> 1.0010137 | E25: ='Assumptions & Monthly Breakdown'!AI21 -> 79.276188 | F25: =E25/E$24 -> 1.0009214 | G25: ='Assumptions & Monthly Breakdown'!AY21 -> 124.85703 | H25: =G25/G$24 -> 1.0008773
B26: ='Assumptions & Monthly Breakdown'!F22 -> Controllable Expenses:
B27: ='Assumptions & Monthly Breakdown'!F23 -> Officer Salary | C27: ='Assumptions & Monthly Breakdown'!S23 -> 1200 | D27: =C27/$C$39 -> 0.10827684 | E27: ='Assumptions & Monthly Breakdown'!AI23 -> 1236 | F27: =E27/$E$39 -> 0.10824685 | G27: ='Assumptions & Monthly Breakdown'!AY23 -> 1273.08 | H27: =G27/$G$39 -> 0.10821704
B28: ='Assumptions & Monthly Breakdown'!F24 -> Salaries and Wages | C28: ='Assumptions & Monthly Breakdown'!S24 -> 1200 | D28: =C28/$C$39 -> 0.10827684 | E28: ='Assumptions & Monthly Breakdown'!AI24 -> 1236 | F28: =E28/$E$39 -> 0.10824685 | G28: ='Assumptions & Monthly Breakdown'!AY24 -> 1273.08 | H28: =G28/$G$39 -> 0.10821704
B29: ='Assumptions & Monthly Breakdown'!F25 -> Payroll Taxes | C29: ='Assumptions & Monthly Breakdown'!S25 -> 480 | D29: =C29/$C$39 -> 0.043310735 | E29: ='Assumptions & Monthly Breakdown'!AI25 -> 494.4 | F29: =E29/$E$39 -> 0.043298742 | G29: ='Assumptions & Monthly Breakdown'!AY25 -> 509.232 | H29: =G29/$G$39 -> 0.043286816
B30: ='Assumptions & Monthly Breakdown'!F26 -> Advertising | C30: ='Assumptions & Monthly Breakdown'!S26 -> 1.4414892 | D30: =C30/$C$39 -> 0.00013006658 | E30: ='Assumptions & Monthly Breakdown'!AI26 -> 3.1710485 | F30: =E30/$E$39 -> 0.00027771523 | G30: ='Assumptions & Monthly Breakdown'!AY26 -> 4.9942835 | H30: =G30/$G$39 -> 0.00042453465
B31: ='Assumptions & Monthly Breakdown'!F27 -> Credit Card Fees | C31: ='Assumptions & Monthly Breakdown'!S27 -> 1.261303 | D31: =C31/$C$39 -> 0.00011380825 | E31: ='Assumptions & Monthly Breakdown'!AI27 -> 2.7746674 | F31: =E31/$E$39 -> 0.00024300082 | G31: ='Assumptions & Monthly Breakdown'!AY27 -> 4.3699981 | H31: =G31/$G$39 -> 0.00037146782
B32: ='Assumptions & Monthly Breakdown'!F28 -> Legal / Accounting | C32: ='Assumptions & Monthly Breakdown'!S28 -> 1200 | D32: =C32/$C$39 -> 0.10827684 | E32: ='Assumptions & Monthly Breakdown'!AI28 -> 1236 | F32: =E32/$E$39 -> 0.10824685 | G32: ='Assumptions & Monthly Breakdown'!AY28 -> 1273.08 | H32: =G32/$G$39 -> 0.10821704
B33: ='Assumptions & Monthly Breakdown'!F29 -> Office Supplies | C33: ='Assumptions & Monthly Breakdown'!S29 -> 1200 | D33: =C33/$C$39 -> 0.10827684 | E33: ='Assumptions & Monthly Breakdown'!AI29 -> 1236 | F33: =E33/$E$39 -> 0.10824685 | G33: ='Assumptions & Monthly Breakdown'!AY29 -> 1273.08 | H33: =G33/$G$39 -> 0.10821704
B34: ='Assumptions & Monthly Breakdown'!F30 -> Repairs / Maintenance | C34: ='Assumptions & Monthly Breakdown'!S30 -> 1000 | D34: =C34/$C$39 -> 0.090230697 | E34: ='Assumptions & Monthly Breakdown'!AI30 -> 1030 | F34: =E34/$E$39 -> 0.090205712 | G34: ='Assumptions & Monthly Breakdown'!AY30 -> 1060.9 | H34: =G34/$G$39 -> 0.090180866
B35: ='Assumptions & Monthly Breakdown'!F31 -> Telephone | C35: ='Assumptions & Monthly Breakdown'!S31 -> 1200 | D35: =C35/$C$39 -> 0.10827684 | E35: ='Assumptions & Monthly Breakdown'!AI31 -> 1236 | F35: =E35/$E$39 -> 0.10824685 | G35: ='Assumptions & Monthly Breakdown'!AY31 -> 1273.08 | H35: =G35/$G$39 -> 0.10821704
B36: Travel | C36: ='Assumptions & Monthly Breakdown'!S32 -> 1200 | D36: =C36/$C$39 -> 0.10827684 | E36: ='Assumptions & Monthly Breakdown'!AI32 -> 1236 | F36: =E36/$E$39 -> 0.10824685 | G36: ='Assumptions & Monthly Breakdown'!AY32 -> 1273.08 | H36: =G36/$G$39 -> 0.10821704
B37: ='Assumptions & Monthly Breakdown'!F33 -> Utilities | C37: ='Assumptions & Monthly Breakdown'!S33 -> 1200 | D37: =C37/$C$39 -> 0.10827684 | E37: ='Assumptions & Monthly Breakdown'!AI33 -> 1236 | F37: =E37/$E$39 -> 0.10824685 | G37: ='Assumptions & Monthly Breakdown'!AY33 -> 1273.08 | H37: =G37/$G$39 -> 0.10821704
B38: ='Assumptions & Monthly Breakdown'!F34 -> Software Fees | C38: ='Assumptions & Monthly Breakdown'!S34 -> 1200 | D38: =C38/$C$39 -> 0.10827684 | E38: ='Assumptions & Monthly Breakdown'!AI34 -> 1236 | F38: =E38/$E$39 -> 0.10824685 | G38: ='Assumptions & Monthly Breakdown'!AY34 -> 1273.08 | H38: =G38/$G$39 -> 0.10821704
B39: ='Assumptions & Monthly Breakdown'!F35 -> Total Controllable Expenses | C39: ='Assumptions & Monthly Breakdown'!S35 -> 11082.703 | D39: =C39/$C$39 -> 1 | E39: ='Assumptions & Monthly Breakdown'!AI35 -> 11418.346 | F39: =E39/$E$39 -> 1 | G39: ='Assumptions & Monthly Breakdown'!AY35 -> 11764.136 | H39: =G39/$G$39 -> 1
B40: ='Assumptions & Monthly Breakdown'!F36 -> Fixed Expenses:
B41: ='Assumptions & Monthly Breakdown'!F37 -> Rent & CAM* | C41: ='Assumptions & Monthly Breakdown'!S37 -> 0 | D41: =C41/C$24 -> 0 | E41: ='Assumptions & Monthly Breakdown'!AI37 -> 0 | F41: =E41/E$24 -> 0 | G41: ='Assumptions & Monthly Breakdown'!AY37 -> 0 | H41: =G41/G$24 -> 0
B42: ='Assumptions & Monthly Breakdown'!F38 -> Insurance (All) | C42: ='Assumptions & Monthly Breakdown'!S38 -> 1200 | D42: =C42/C$24 -> 33.332657 | E42: ='Assumptions & Monthly Breakdown'!AI38 -> 1236 | F42: =E42/E$24 -> 15.605428 | G42: ='Assumptions & Monthly Breakdown'!AY38 -> 1273.08 | H42: =G42/G$24 -> 10.205247
B43: ='Assumptions & Monthly Breakdown'!F39 -> Licenses / Permits | C43: ='Assumptions & Monthly Breakdown'!S39 -> 1200 | D43: =C43/C$24 -> 33.332657 | E43: ='Assumptions & Monthly Breakdown'!AI39 -> 1236 | F43: =E43/E$24 -> 15.605428 | G43: ='Assumptions & Monthly Breakdown'!AY39 -> 1273.08 | H43: =G43/G$24 -> 10.205247
B44: ='Assumptions & Monthly Breakdown'!F40 -> Sales Tax | C44: ='Assumptions & Monthly Breakdown'!S40 -> 0.3603723 | D44: =C44/C$24 -> 0.010010139 | E44: ='Assumptions & Monthly Breakdown'!AI40 -> 0.37118347 | F44: =E44/E$24 -> 0.0046864699 | G44: ='Assumptions & Monthly Breakdown'!AY40 -> 1.2485709 | H44: =G44/G$24 -> 0.010008778
B45: ='Assumptions & Monthly Breakdown'!F41 -> Royalties | C45: ='Assumptions & Monthly Breakdown'!S41 -> 0 | D45: =C45/C$24 -> 0 | E45: ='Assumptions & Monthly Breakdown'!AI41 -> 0 | F45: =E45/E$24 -> 0 | G45: ='Assumptions & Monthly Breakdown'!AY41 -> 0 | H45: =G45/G$24 -> 0
B46: ='Assumptions & Monthly Breakdown'!F42 -> Operating Expenses | C46: ='Assumptions & Monthly Breakdown'!S42 -> 16800 | D46: =C46/C$24 -> 466.6572 | E46: ='Assumptions & Monthly Breakdown'!AI42 -> 17304 | F46: =E46/E$24 -> 218.47599 | G46: ='Assumptions & Monthly Breakdown'!AY42 -> 17823.12 | H46: =G46/G$24 -> 142.87346
B47: ='Assumptions & Monthly Breakdown'!F43 -> Total Fixed Expenses | C47: ='Assumptions & Monthly Breakdown'!S43 -> 19200.36 | D47: =C47/C$24 -> 533.33253 | E47: ='Assumptions & Monthly Breakdown'!AI43 -> 19776.371 | F47: =E47/E$24 -> 249.69153 | G47: ='Assumptions & Monthly Breakdown'!AY43 -> 20370.529 | H47: =G47/G$24 -> 163.29397
B48: ='Assumptions & Monthly Breakdown'!F44 -> EBITDA* (Profit/(Loss) before Tax | C48: ='Assumptions & Monthly Breakdown'!S44 -> -30247.026 | D48: =C48/C$24 -> -840.17813 | E48: ='Assumptions & Monthly Breakdown'!AI44 -> -31115.441 | F48: =E48/E$24 -> -392.85579 | G48: ='Assumptions & Monthly Breakdown'!AY44 -> -32009.808 | H48: =G48/G$24 -> -256.59661 | J48: Questions, please contact:
B49: ='Assumptions & Monthly Breakdown'!F45 -> Depreciation & Amortization | C49: ='Assumptions & Monthly Breakdown'!S45 -> 80 | D49: =C49/C$24 -> 2.2221772 | E49: ='Assumptions & Monthly Breakdown'!AI45 -> 80 | F49: =E49/E$24 -> 1.01006 | G49: ='Assumptions & Monthly Breakdown'!AY45 -> 80 | H49: =G49/G$24 -> 0.64129496 | J49: =Instructions!B59 -> Business Finance Depot
B50: ='Assumptions & Monthly Breakdown'!F46 -> Total Expenses | J50: =Instructions!B60 -> Paul Bosley
...
